BEGIN:VCALENDAR
VERSION:2.0
PRODID: -//Q4 Inc.//EN
METHOD:PUBLISH
BEGIN:VTIMEZONE
TZID:America/New_York
X-LIC-LOCATION:America/New_York
BEGIN:DAYLIGHT
TZOFFSETFROM:-0500
TZOFFSETTO:-0400
TZNAME:EDT
DTSTART:19700308T020000
RRULE:FREQ=YEARLY;BYMONTH=3;BYDAY=2SU
END:DAYLIGHT
BEGIN:STANDARD
TZOFFSETFROM:-0400
TZOFFSETTO:-0500
TZNAME:EST
DTSTART:19701101T020000
RRULE:FREQ=YEARLY;BYMONTH=11;BYDAY=1SU
END:STANDARD
END:VTIMEZONE
BEGIN:VEVENT
ORGANIZER:MAILTO:no-reply@q4inc.com
DTSTART;TZID="America/New_York":20161214T110000
DTEND;TZID="America/New_York":20161214T110000
LOCATION:Boston MA 
UID:4bc19b28-a73b-428d-9369-4665071097f3
DTSTAMP:20260424T204719
SUMMARY:Bank of America Merrill Lynch 2016 Paper, Packaging and Builders Conference
DESCRIPTION: View More Information: https://ir.westrock.com/events-and-presentations/event-calendar/event-details/2016/Bank-of-America-Merrill-Lynch-2016-Paper-Packaging-and-Builders-Conference/default.aspx
URL;VALUE=URI:https://ir.westrock.com/events-and-presentations/event-calendar/event-details/2016/Bank-of-America-Merrill-Lynch-2016-Paper-Packaging-and-Builders-Conference/default.aspx
PRIORITY:5
CLASS:PUBLIC
END:VEVENT
END:VCALENDAR
